BEGIN:VCALENDAR
VERSION:2.0
PRODID:icalendar-ruby
CALSCALE:GREGORIAN
METHOD:PUBLISH
BEGIN:VEVENT
DTSTAMP:20260422T171405Z
UID:48-232255@bethelinvancouver.com
DTSTART:20261031T020000Z
DTEND:20261031T040000Z
CLASS:PUBLIC
CREATED:20260422T074747
DESCRIPTION:Join us\, Fridays 7pm\, for a night to hang out\,  play games\
 , and have meaningful discussions about life and God.\nTeenage years are a
  great time to discover and grow in a genuine relationship with God. Our g
 oal is to provide opportunities for young people to connect with their pee
 rs\, learn to follow Jesus\, and develop a secure identity from God’s pe
 rspective. Our youth events are led by a team of volunteers and staff who 
 care about youth and desire to make a lasting difference in their lives.\n
 For more information\, visit our Youth Ministry page by clicking the link 
 below.\nYouth Ministry
LAST-MODIFIED:20260422T074747
LOCATION:Lower Hall
SUMMARY:Bethel Youth
URL;VALUE=URI:https://bethelinvancouver.com/events/bethel-youth--48/2026-10
 -30
ATTACH;FILENAME=3.png;FMTTYPE=image/png:https://dq5pwpg1q8ru0.cloudfront.ne
 t/2025/10/11/19/12/53/0227cdd2-6ae3-4071-bfef-3f2f13f76f4c/3.png
END:VEVENT
END:VCALENDAR
