BEGIN:VCALENDAR
VERSION:2.0
PRODID:icalendar-ruby
CALSCALE:GREGORIAN
METHOD:PUBLISH
BEGIN:VEVENT
DTSTAMP:20260423T113329Z
UID:50-233257@bethelinvancouver.com
DTSTART:20261011T170000Z
DTEND:20261011T183000Z
CLASS:PUBLIC
CREATED:20260422T192349
DESCRIPTION:At Bethel Kids\, our goal is to communicate God’s love to chi
 ldren in safe and fun environments.\nOn Sundays\, during our gathering\, w
 e have activities and a bible lesson for children ages 4 to 11 years old.
   Our programs for kids are led by a dedicated team of volunteers who inv
 est in our children.
LAST-MODIFIED:20260422T192349
LOCATION:
SUMMARY:Bethel Kids
URL;VALUE=URI:https://bethelinvancouver.com/events/bethel-kids/2026-10-11
ATTACH;FILENAME=bethel-kids.png;FMTTYPE=image/png:https://dq5pwpg1q8ru0.clo
 udfront.net/2025/10/29/23/20/16/59cda836-7563-4d0e-97fd-6bc8d4453a5c/bethe
 l-kids.png
END:VEVENT
END:VCALENDAR
